BEGIN:VCALENDAR
VERSION:2.0
PRODID:-//AMAC - Mendrisio - ECPv5.8.1//NONSGML v1.0//EN
CALSCALE:GREGORIAN
METHOD:PUBLISH
X-WR-CALNAME:AMAC - Mendrisio
X-ORIGINAL-URL:https://www.amacolonia.ch
X-WR-CALDESC:Eventi per AMAC - Mendrisio
BEGIN:VTIMEZONE
TZID:Europe/Paris
BEGIN:DAYLIGHT
TZOFFSETFROM:+0100
TZOFFSETTO:+0200
TZNAME:CEST
DTSTART:20160327T010000
END:DAYLIGHT
BEGIN:STANDARD
TZOFFSETFROM:+0200
TZOFFSETTO:+0100
TZNAME:CET
DTSTART:20161030T010000
END:STANDARD
END:VTIMEZONE
BEGIN:VEVENT
DTSTART;TZID=Europe/Paris:20160801T170000
DTEND;TZID=Europe/Paris:20160815T100000
DTSTAMP:20260424T113152
CREATED:20151203T170023Z
LAST-MODIFIED:20151203T170528Z
UID:3821-1470070800-1471255200@www.amacolonia.ch
SUMMARY:Colonia estiva AMAC
DESCRIPTION:Dal 1 al 15 agosto 2016 si svolgerà la nostra colonia estiva e il campo per adolescenti. \nSulla pagina http://www.amacolonia.ch/colonie/i-turni-di-colonia/ tutte le informazioni!
URL:https://www.amacolonia.ch/evento/colonia-estiva-amac/
LOCATION:Casa Polivalente dei Sindacati USS-TI\, Lagasca 10\, Rodi-Fiesso\, Ticino\, 6772\, Svizzera
CATEGORIES:Colonia AMAC
ORGANIZER;CN="AMAC":MAILTO:info@amacolonia.ch
END:VEVENT
END:VCALENDAR