BEGIN:VCALENDAR
VERSION:2.0
PRODID:-//AMAC - Mendrisio - ECPv5.8.1//NONSGML v1.0//EN
CALSCALE:GREGORIAN
METHOD:PUBLISH
X-WR-CALNAME:AMAC - Mendrisio
X-ORIGINAL-URL:http://www.amacolonia.ch
X-WR-CALDESC:Eventi per AMAC - Mendrisio
BEGIN:VTIMEZONE
TZID:Europe/Paris
BEGIN:DAYLIGHT
TZOFFSETFROM:+0100
TZOFFSETTO:+0200
TZNAME:CEST
DTSTART:20190331T010000
END:DAYLIGHT
BEGIN:STANDARD
TZOFFSETFROM:+0200
TZOFFSETTO:+0100
TZNAME:CET
DTSTART:20191027T010000
END:STANDARD
END:VTIMEZONE
BEGIN:VEVENT
DTSTART;TZID=Europe/Paris:20190624T200000
DTEND;TZID=Europe/Paris:20190624T223000
DTSTAMP:20260423T184807
CREATED:20190616T122546Z
LAST-MODIFIED:20190616T122742Z
UID:5432-1561406400-1561415400@www.amacolonia.ch
SUMMARY:Serata dibattito: "La colonia residenziale"
DESCRIPTION:Che cos’è una colonia residenziale? Che tipo di\n“vacanza” offre ai ragazzi? Qual è il loro scopo\ne il loro valore pedagogico?\nScopriamolo insieme!\nPresentazione\, filmato e discussione. \nLunedì 24 giugno 2019 dalle ore 20:00 alle 22:30 presso LaFilanda a Mendrisio. \nInterverranno: Giancarlo Nava (presidente Colonie dei Sindacati e formatore CEMEA)\, Michele Aramini (presidente AMAC e presidente della Commissione cantonale colonie) e altri operatori del settore colonie. \nQuesta serata\, promossa dall’AMAC\, si inserisce nel tema del mese di giugno “Le vacanze” (potete trovare una mostra allestita al PT de LaFilanda allestita dall’AMAC).
URL:http://www.amacolonia.ch/evento/serata-dibattito-la-colonia-residenziale/
LOCATION:Centro LaFilanda Mendrisio\, via Industria 5\, Mendrisio\, 6850\, Svizzera
ORGANIZER;CN="AMAC":MAILTO:info@amacolonia.ch
END:VEVENT
END:VCALENDAR