BEGIN:VCALENDAR
VERSION:2.0
PRODID:-//AMAC - Mendrisio - ECPv5.8.1//NONSGML v1.0//EN
CALSCALE:GREGORIAN
METHOD:PUBLISH
X-WR-CALNAME:AMAC - Mendrisio
X-ORIGINAL-URL:http://www.amacolonia.ch
X-WR-CALDESC:Eventi per AMAC - Mendrisio
BEGIN:VTIMEZONE
TZID:Europe/Paris
BEGIN:DAYLIGHT
TZOFFSETFROM:+0100
TZOFFSETTO:+0200
TZNAME:CEST
DTSTART:20190331T010000
END:DAYLIGHT
BEGIN:STANDARD
TZOFFSETFROM:+0200
TZOFFSETTO:+0100
TZNAME:CET
DTSTART:20191027T010000
END:STANDARD
END:VTIMEZONE
BEGIN:VEVENT
DTSTART;TZID=Europe/Paris:20190617T200000
DTEND;TZID=Europe/Paris:20190617T230000
DTSTAMP:20260423T184017
CREATED:20190616T121957Z
LAST-MODIFIED:20190616T121957Z
UID:5425-1560801600-1560812400@www.amacolonia.ch
SUMMARY:Proiezione di "Summer camp" a LaFilanda
DESCRIPTION:Lunedì 17 giugno dalle ore 20:00 verrà proiettato il film “Summer camp” nella sala gialla de LaFilanda a Mendrisio. \nQuesta proiezione\, promossa dall’AMAC\, si inserisce nel tema del mese di giugno “Le vacanze” (potete trovare una mostra allestita al PT de LaFilanda allestita dall’AMAC). \nIl film narra le vicende di una colonia estiva francese\, dove si intrecciano tante storie e si percepiscono le emozioni e le dinamiche tipiche di una colonia residenziale. \nEntrata gratuita e aperta a tutti!
URL:http://www.amacolonia.ch/evento/proiezione-di-summer-camp-a-lafilanda/
LOCATION:Centro LaFilanda Mendrisio\, via Industria 5\, Mendrisio\, 6850\, Svizzera
ORGANIZER;CN="AMAC":MAILTO:info@amacolonia.ch
END:VEVENT
END:VCALENDAR