BEGIN:VCALENDAR
VERSION:2.0
PRODID:-//AMAC - Mendrisio - ECPv5.8.1//NONSGML v1.0//EN
CALSCALE:GREGORIAN
METHOD:PUBLISH
X-WR-CALNAME:AMAC - Mendrisio
X-ORIGINAL-URL:http://www.amacolonia.ch
X-WR-CALDESC:Eventi per AMAC - Mendrisio
BEGIN:VTIMEZONE
TZID:Europe/Paris
BEGIN:DAYLIGHT
TZOFFSETFROM:+0100
TZOFFSETTO:+0200
TZNAME:CEST
DTSTART:20190331T010000
END:DAYLIGHT
BEGIN:STANDARD
TZOFFSETFROM:+0200
TZOFFSETTO:+0100
TZNAME:CET
DTSTART:20191027T010000
END:STANDARD
END:VTIMEZONE
BEGIN:VEVENT
DTSTART;TZID=Europe/Paris:20190524T200000
DTEND;TZID=Europe/Paris:20190526T163000
DTSTAMP:20260423T201014
CREATED:20180507T083916Z
LAST-MODIFIED:20190128T091639Z
UID:4750-1558728000-1558888200@www.amacolonia.ch
SUMMARY:Le Nuvole - corso residenziale di formazione
DESCRIPTION:Come ogni anno l’AMAC con le Colonie dei Sindacati organizza un weekend formativo obbligatorio per il personale iscritto alle colonie estive di Rodi. \nSi terrà dal 24 al 26 maggio 2019 a Rodi-Fiesso. Il personale iscritto riceve direttamente la convocazione.
URL:http://www.amacolonia.ch/evento/le-nuvole-corso-residenziale-di-formazione/
LOCATION:Casa Polivalente dei Sindacati USS-TI\, Lagasca 10\, Rodi-Fiesso\, Ticino\, 6772\, Svizzera
ORGANIZER;CN="AMAC":MAILTO:info@amacolonia.ch
END:VEVENT
END:VCALENDAR