BEGIN:VCALENDAR
VERSION:2.0
PRODID:-//AMAC - Mendrisio - ECPv5.8.1//NONSGML v1.0//EN
CALSCALE:GREGORIAN
METHOD:PUBLISH
X-WR-CALNAME:AMAC - Mendrisio
X-ORIGINAL-URL:http://www.amacolonia.ch
X-WR-CALDESC:Eventi per AMAC - Mendrisio
BEGIN:VTIMEZONE
TZID:Europe/Paris
BEGIN:DAYLIGHT
TZOFFSETFROM:+0100
TZOFFSETTO:+0200
TZNAME:CEST
DTSTART:20190331T010000
END:DAYLIGHT
BEGIN:STANDARD
TZOFFSETFROM:+0200
TZOFFSETTO:+0100
TZNAME:CET
DTSTART:20191027T010000
END:STANDARD
END:VTIMEZONE
BEGIN:VEVENT
DTSTART;TZID=Europe/Paris:20190304T210000
DTEND;TZID=Europe/Paris:20190305T030000
DTSTAMP:20260424T013300
CREATED:20170111T135156Z
LAST-MODIFIED:20190110T161310Z
UID:4266-1551733200-1551754800@www.amacolonia.ch
SUMMARY:Carnevale Dormiglione - Serata danzante
DESCRIPTION:Ballo liscio con l’orchestra spettacolo\n“Macho” di Massimo Cebrero • Bar de nuit\nEntrata CHF 20.-\nCentro manifestazioni mercato coperto\nOre 21:00-03:00 \n \n 
URL:http://www.amacolonia.ch/evento/carnevale-dormiglione-serata-danzante/
LOCATION:Centro Manifestazioni Mercato Coperto\, Via Campo Sportivo\, Mendrisio\, Svizzera
ORGANIZER;CN="AMAC":MAILTO:info@amacolonia.ch
END:VEVENT
END:VCALENDAR