BEGIN:VCALENDAR
VERSION:2.0
PRODID:-//AMAC - Mendrisio - ECPv5.8.1//NONSGML v1.0//EN
CALSCALE:GREGORIAN
METHOD:PUBLISH
X-WR-CALNAME:AMAC - Mendrisio
X-ORIGINAL-URL:http://www.amacolonia.ch
X-WR-CALDESC:Eventi per AMAC - Mendrisio
BEGIN:VTIMEZONE
TZID:Europe/Paris
BEGIN:DAYLIGHT
TZOFFSETFROM:+0100
TZOFFSETTO:+0200
TZNAME:CEST
DTSTART:20190331T010000
END:DAYLIGHT
BEGIN:STANDARD
TZOFFSETFROM:+0200
TZOFFSETTO:+0100
TZNAME:CET
DTSTART:20191027T010000
END:STANDARD
END:VTIMEZONE
BEGIN:VEVENT
DTSTART;TZID=Europe/Paris:20190301T140000
DTEND;TZID=Europe/Paris:20190301T170000
DTSTAMP:20260423T234428
CREATED:20170111T134538Z
LAST-MODIFIED:20190110T160900Z
UID:4262-1551448800-1551459600@www.amacolonia.ch
SUMMARY:Carnevale Dormiglione - Pomeriggio ricreativo per gli anziani
DESCRIPTION:Pomeriggio ricreativo per gli anziani del\nMendrisiotto • Tombola gratuita • Musica\n• Merenda\nAnimazione con il gruppo “Cantem Insema”\nCentro manifestazioni mercato coperto\nOre 14:00-17:00
URL:http://www.amacolonia.ch/evento/carnevale-dormiglione-pomeriggio-ricreativo-per-gli-anziani/
LOCATION:Centro Manifestazioni Mercato Coperto\, Via Campo Sportivo\, Mendrisio\, Svizzera
ORGANIZER;CN="AMAC":MAILTO:info@amacolonia.ch
END:VEVENT
END:VCALENDAR