BEGIN:VCALENDAR
VERSION:2.0
PRODID:-//AMAC - Mendrisio - ECPv5.8.1//NONSGML v1.0//EN
CALSCALE:GREGORIAN
METHOD:PUBLISH
X-WR-CALNAME:AMAC - Mendrisio
X-ORIGINAL-URL:http://www.amacolonia.ch
X-WR-CALDESC:Eventi per AMAC - Mendrisio
BEGIN:VTIMEZONE
TZID:Europe/Paris
BEGIN:DAYLIGHT
TZOFFSETFROM:+0100
TZOFFSETTO:+0200
TZNAME:CEST
DTSTART:20190331T010000
END:DAYLIGHT
BEGIN:STANDARD
TZOFFSETFROM:+0200
TZOFFSETTO:+0100
TZNAME:CET
DTSTART:20191027T010000
END:STANDARD
END:VTIMEZONE
BEGIN:VEVENT
DTSTART;TZID=Europe/Paris:20190228T193000
DTEND;TZID=Europe/Paris:20190228T230000
DTSTAMP:20260424T012354
CREATED:20170111T134431Z
LAST-MODIFIED:20190110T160930Z
UID:4260-1551382200-1551394800@www.amacolonia.ch
SUMMARY:Carnevale Dormiglione - Incoronazione dei Reali e gnocchi per tutti
DESCRIPTION:Apertura con incoronazione dei reali\nDormiglioni e consegna delle chiavi da parte\ndell’autorità comunale • Distribuzione\ngnocchi • Musica • Premiazione maschere\nOratorio di Santa Maria\nDalle ore 19:30
URL:http://www.amacolonia.ch/evento/carnevale-dormiglione-incoronazione-dei-reali-e-gnocchi-per-tutti/
LOCATION:Oratorio Santa Maria\, Via Santa Maria\, Mendrisio\, 6850\, Svizzera
END:VEVENT
END:VCALENDAR