BEGIN:VCALENDAR
VERSION:2.0
PRODID:-//AMAC - Mendrisio - ECPv5.8.1//NONSGML v1.0//EN
CALSCALE:GREGORIAN
METHOD:PUBLISH
X-WR-CALNAME:AMAC - Mendrisio
X-ORIGINAL-URL:http://www.amacolonia.ch
X-WR-CALDESC:Eventi per AMAC - Mendrisio
BEGIN:VTIMEZONE
TZID:Europe/Paris
BEGIN:DAYLIGHT
TZOFFSETFROM:+0100
TZOFFSETTO:+0200
TZNAME:CEST
DTSTART:20190331T010000
END:DAYLIGHT
BEGIN:STANDARD
TZOFFSETFROM:+0200
TZOFFSETTO:+0100
TZNAME:CET
DTSTART:20191027T010000
END:STANDARD
END:VTIMEZONE
BEGIN:VEVENT
DTSTART;TZID=Europe/Paris:20190118T180000
DTEND;TZID=Europe/Paris:20190120T230000
DTSTAMP:20260424T042148
CREATED:20190110T161713Z
LAST-MODIFIED:20190110T161738Z
UID:5292-1547834400-1548025200@www.amacolonia.ch
SUMMARY:25esimo Timoto
DESCRIPTION:Per i festeggiamenti del 25esimo di Timoto l’AMAC collaborerà con l’animazione per i bambini di domenica 20 gennaio al CMMC!
URL:http://www.amacolonia.ch/evento/5292/
END:VEVENT
END:VCALENDAR