BEGIN:VCALENDAR
VERSION:2.0
PRODID:-//AMAC - Mendrisio - ECPv5.8.1//NONSGML v1.0//EN
CALSCALE:GREGORIAN
METHOD:PUBLISH
X-WR-CALNAME:AMAC - Mendrisio
X-ORIGINAL-URL:http://www.amacolonia.ch
X-WR-CALDESC:Eventi per AMAC - Mendrisio
BEGIN:VTIMEZONE
TZID:Europe/Paris
BEGIN:DAYLIGHT
TZOFFSETFROM:+0100
TZOFFSETTO:+0200
TZNAME:CEST
DTSTART:20180325T010000
END:DAYLIGHT
BEGIN:STANDARD
TZOFFSETFROM:+0200
TZOFFSETTO:+0100
TZNAME:CET
DTSTART:20181028T010000
END:STANDARD
END:VTIMEZONE
BEGIN:VEVENT
DTSTART;TZID=Europe/Paris:20181216T100000
DTEND;TZID=Europe/Paris:20181216T180000
DTSTAMP:20260424T071424
CREATED:20171207T084948Z
LAST-MODIFIED:20181113T150414Z
UID:4603-1544954400-1544983200@www.amacolonia.ch
SUMMARY:Mercatino di Natale Mendrisio
DESCRIPTION:Durante il mercatino di Natale di domenica 16 dicembre 2018\, l’AMAC sarà presente con una propria bancarella. \nPotrete sostenerci acquistando i nostri prodotti o facendo una libera offerta. \nVi aspettiamo!
URL:http://www.amacolonia.ch/evento/mercatino-di-natale-mendrisio/
LOCATION:Nucleo storico Mendrisio\, Nucleo storico\, Mendrisio\, 6850\, Svizzera
ORGANIZER;CN="AMAC":MAILTO:info@amacolonia.ch
END:VEVENT
END:VCALENDAR